34.674898412676846
0.000000000000000
0.000000000000000
-34.674898412676846
1101096.515643010400000
1213061.486000101100000
