17.391140471259174
0.000000000000000
0.000000000000000
-17.391140471259174
2220834.230736098700000
279779.647295729720000
