17.401184692369409
0.000000000000000
0.000000000000000
-17.401184692369409
1623111.451448480400000
643147.403270727140000
