17.354448383808599
0.000000000000000
0.000000000000000
-17.354448383808599
2431121.742532466100000
1105671.147857380100000
