17.408360500107150
0.000000000000000
0.000000000000000
-17.408360500107150
2220835.778635962900000
371089.406845741670000
