17.391790254597080
0.000000000000000
0.000000000000000
-17.391790254597080
2869610.965359093200000
1028715.690190189900000
