17.374727768233392
0.000000000000000
0.000000000000000
-17.374727768233392
2656264.971954409000000
1021217.952664668800000
