17.345201720318890
0.000000000000000
0.000000000000000
-17.345201720318890
2660668.172804795200000
743845.848568744720000
