17.523365111787587
0.000000000000000
0.000000000000000
-17.523365111787587
2658703.856703853700000
747288.081431123200000
