17.382263002062643
0.000000000000000
0.000000000000000
-17.382263002062643
1996621.869642067700000
368432.127126512580000
