17.396255489927082
0.000000000000000
0.000000000000000
-17.396255489927082
1179172.581077480200000
927260.976857046710000
