8.816773077254442
0.000000000000000
0.000000000000000
-8.816773077254442
2221637.152887208900000
143093.590918380650000
