17.416355407106799
0.000000000000000
0.000000000000000
-17.416355407106799
2140064.637458845500000
280018.287586414020000
