17.415976957810052
0.000000000000000
0.000000000000000
-17.415976957810052
2141555.294031100800000
1097290.908040502300000
