8.789247071783564
0.000000000000000
0.000000000000000
-8.789247071783564
2298137.281408939000000
52748.499523315069000
