8.806375484770681
0.000000000000000
0.000000000000000
-8.806375484770681
1958299.698835742400000
823755.305816918380000
