17.350333301396304
0.000000000000000
0.000000000000000
-17.350333301396304
1394332.284050405700000
558751.999404919330000
