34.701212767884144
0.000000000000000
0.000000000000000
-34.701212767884144
1382625.436675167900000
655844.631193719460000
