17.378513381598786
0.000000000000000
0.000000000000000
-17.378513381598786
2067677.789653087300000
1098015.958289580000000
