17.385185884378632
0.000000000000000
0.000000000000000
-17.385185884378632
2068458.530330084500000
1096698.745604668300000
