17.399391794922771
0.000000000000000
0.000000000000000
-17.399391794922771
1918022.112247201600000
553116.147517119770000
