17.379028528399584
0.000000000000000
0.000000000000000
-17.379028528399584
2146641.488321507800000
550801.338146129270000
