34.773555690382267
0.000000000000000
0.000000000000000
-34.773555690382267
635702.233649809030000
680530.646971288840000
