17.373315916012892
0.000000000000000
0.000000000000000
-17.373315916012892
1090936.521334552900000
564035.337341366570000
