34.678714973400247
0.000000000000000
0.000000000000000
-34.678714973400247
1098571.588249104600000
1024952.251180082200000
