17.373457804737548
0.000000000000000
0.000000000000000
-17.373457804737548
1624666.001540704600000
1102186.293766337400000
