17.385348398238495
0.000000000000000
0.000000000000000
-17.385348398238495
1625360.469386933600000
1100553.560317668600000
