34.693292070324304
0.000000000000000
0.000000000000000
-34.693292070324304
484177.126248648560000
498687.409430243950000
