17.370906850215682
0.000000000000000
0.000000000000000
-17.370906850215682
1845558.727876530500000
1098722.056580002700000
