17.383682316275472
0.000000000000000
0.000000000000000
-17.383682316275472
2367931.915237758300000
554147.572877490660000
