17.416360428237830
0.000000000000000
0.000000000000000
-17.416360428237830
1622158.232789635000000
739916.548353637800000
