17.385572337397004
0.000000000000000
0.000000000000000
-17.385572337397004
1772531.706144600200000
1099017.522863394300000
