10.020258943353660
0.000000000000000
0.000000000000000
-10.020258943353660
360571.789585123420000
542413.813883806110000
