34.761362335104955
0.000000000000000
0.000000000000000
-34.761362335104955
1978612.433252609300000
1020601.675994516400000
