17.367469399068632
0.000000000000000
0.000000000000000
-17.367469399068632
1994816.199624095600000
917410.103154100710000
