17.369662502331753
0.000000000000000
0.000000000000000
-17.369662502331753
2655993.385326467000000
926235.796616768350000
