17.511133467305729
0.000000000000000
0.000000000000000
-17.511133467305729
2804788.162877420400000
1017697.742056560500000
