17.402102162243555
0.000000000000000
0.000000000000000
-17.402102162243555
2070740.830369415700000
368234.685339728540000
