34.671897839742080
0.000000000000000
0.000000000000000
-34.671897839742080
327874.612623123390000
510248.456025796300000
