8.810963957475309
0.000000000000000
0.000000000000000
-8.810963957475309
2145918.340919415000000
142268.831940440870000
