17.392156241668367
0.000000000000000
0.000000000000000
-17.392156241668367
1918952.368386538900000
277647.611928283700000
