17.408795251723983
0.000000000000000
0.000000000000000
-17.408795251723983
2366482.259199761300000
736099.591925982620000
