17.394652831969051
0.000000000000000
0.000000000000000
-17.394652831969051
1994822.082744875900000
551464.991751353260000
