17.404167661284180
0.000000000000000
0.000000000000000
-17.404167661284180
2145788.862067427500000
651358.206869093700000
