8.824243368926151
0.000000000000000
0.000000000000000
-8.824243368926151
2109983.456537821800000
142240.135110063220000
