17.334279065232813
0.000000000000000
0.000000000000000
-17.334279065232813
1169716.190173078100000
563947.518724828960000
