17.375932879164626
0.000000000000000
0.000000000000000
-17.375932879164626
1405163.564586901600000
1104361.743935229300000
