17.401792496787085
0.000000000000000
0.000000000000000
-17.401792496787085
2143310.547664680500000
460168.955192968190000
