17.371843675873773
0.000000000000000
0.000000000000000
-17.371843675873773
2068972.099606609700000
733738.142347230580000
