17.384537802113023
0.000000000000000
0.000000000000000
-17.384537802113023
1321115.295057359200000
653618.507520441900000
